BEGIN:VCALENDAR
VERSION:2.0
PRODID:-//time.you/holidays//NONSGML v1.0//EN
BEGIN:VEVENT
UID:3ab6b7f6-87a3-46f4-b9c4-14720a4077c5
DTSTAMP:20260421T205636Z
DTSTART;VALUE=DATE:20280508
SUMMARY:Eid al-Adha (observed, estimated) (Gambia)
END:VEVENT
END:VCALENDAR