BEGIN:VCALENDAR
VERSION:2.0
PRODID:-//time.you/holidays//NONSGML v1.0//EN
BEGIN:VEVENT
UID:3a672153-433d-4c98-a7df-cdee6477903c
DTSTAMP:20260421T155549Z
DTSTART;VALUE=DATE:20250609
SUMMARY:Eid al-Adha (observed) (Gambia)
END:VEVENT
END:VCALENDAR