BEGIN:VCALENDAR
VERSION:2.0
PRODID:-//time.you/holidays//NONSGML v1.0//EN
BEGIN:VEVENT
UID:a65e2ac2-c612-4890-ad86-4541a9d87c21
DTSTAMP:20260421T155808Z
DTSTART;VALUE=DATE:20260320
SUMMARY:Eid al-Fitr (estimated) (Gambia)
END:VEVENT
END:VCALENDAR