BEGIN:VCALENDAR
VERSION:2.0
PRODID:-//time.you/holidays//NONSGML v1.0//EN
BEGIN:VEVENT
UID:992096ce-dea3-451e-aafb-c0aa0978feba
DTSTAMP:20260424T034258Z
DTSTART;VALUE=DATE:20220502
SUMMARY:Eid al-Fitr; Labor Day (observed) (Gambia)
END:VEVENT
END:VCALENDAR