BEGIN:VCALENDAR
VERSION:2.0
PRODID:-//time.you/holidays//NONSGML v1.0//EN
BEGIN:VEVENT
UID:e701ed93-8256-4925-8f3d-7fcb70af3fa5
DTSTAMP:20260420T152638Z
DTSTART;VALUE=DATE:20250330
SUMMARY:Eid al-Fitr (Gambia)
END:VEVENT
END:VCALENDAR