BEGIN:VCALENDAR
VERSION:2.0
PRODID:-//time.you/holidays//NONSGML v1.0//EN
BEGIN:VEVENT
UID:5e73ad4c-7952-4797-b946-050cb764c8b8
DTSTAMP:20260421T134936Z
DTSTART;VALUE=DATE:20290219
SUMMARY:Independence Day (observed) (Gambia)
END:VEVENT
END:VCALENDAR