BEGIN:VCALENDAR
VERSION:2.0
PRODID:-//time.you/holidays//NONSGML v1.0//EN
BEGIN:VEVENT
UID:ada88b83-217c-4c9b-b3cc-786d877a4b19
DTSTAMP:20260424T023357Z
DTSTART;VALUE=DATE:20260218
SUMMARY:Independence Day (Gambia)
END:VEVENT
END:VCALENDAR