BEGIN:VCALENDAR
VERSION:2.0
PRODID:-//time.you/holidays//NONSGML v1.0//EN
BEGIN:VEVENT
UID:6ba9e11a-a89a-4cc1-a368-05d6739311e8
DTSTAMP:20260421T205732Z
DTSTART;VALUE=DATE:20240408
SUMMARY:Laylat al-Qadr (observed) (Gambia)
END:VEVENT
END:VCALENDAR