BEGIN:VCALENDAR
VERSION:2.0
PRODID:-//time.you/holidays//NONSGML v1.0//EN
BEGIN:VEVENT
UID:84f425f9-cc76-49fa-be81-417bb672aa66
DTSTAMP:20260421T205414Z
DTSTART;VALUE=DATE:20250327
SUMMARY:Laylat al-Qadr (Gambia)
END:VEVENT
END:VCALENDAR