BEGIN:VCALENDAR
VERSION:2.0
PRODID:-//time.you/holidays//NONSGML v1.0//EN
BEGIN:VEVENT
UID:04aff725-53cc-4139-9ff7-c60867da672f
DTSTAMP:20260421T143602Z
DTSTART;VALUE=DATE:20280103
SUMMARY:New Year's Day (observed) (Gambia)
END:VEVENT
END:VCALENDAR