BEGIN:VCALENDAR
VERSION:2.0
PRODID:-//time.you/holidays//NONSGML v1.0//EN
BEGIN:VEVENT
UID:7752e8e4-f161-4fc7-9d0d-6c6b060d0a57
DTSTAMP:20260421T154801Z
DTSTART;VALUE=DATE:20260101
SUMMARY:New Year's Day (Gambia)
END:VEVENT
END:VCALENDAR