BEGIN:VCALENDAR
VERSION:2.0
PRODID:-//time.you/holidays//NONSGML v1.0//EN
BEGIN:VEVENT
UID:683c742a-4dff-4aae-86df-b7264332195b
DTSTAMP:20260422T070311Z
DTSTART;VALUE=DATE:20260825
SUMMARY:Prophet's Birthday (estimated) (Gambia)
END:VEVENT
END:VCALENDAR