BEGIN:VCALENDAR
VERSION:2.0
PRODID:-//time.you/holidays//NONSGML v1.0//EN
BEGIN:VEVENT
UID:89746b34-fa1b-45bb-a85d-ce86c23edebf
DTSTAMP:20260421T141549Z
DTSTART;VALUE=DATE:20240916
SUMMARY:Prophet's Birthday (Gambia)
END:VEVENT
END:VCALENDAR