BEGIN:VCALENDAR
VERSION:2.0
PRODID:-//time.you/holidays//NONSGML v1.0//EN
BEGIN:VEVENT
UID:95b6af12-c421-47d0-a337-019d7deb7104
DTSTAMP:20260421T221237Z
DTSTART;VALUE=DATE:20260517
SUMMARY:Day of Family Sanctity and Respect for Parents (Georgia)
END:VEVENT
END:VCALENDAR