BEGIN:VCALENDAR
VERSION:2.0
PRODID:-//time.you/holidays//NONSGML v1.0//EN
BEGIN:VEVENT
UID:2f2f583d-1dee-4795-974e-29d8172d30d7
DTSTAMP:20260422T061343Z
DTSTART;VALUE=DATE:20260509
SUMMARY:Day of Victory over Fascism (Georgia)
END:VEVENT
END:VCALENDAR