BEGIN:VCALENDAR
VERSION:2.0
PRODID:-//time.you/holidays//NONSGML v1.0//EN
BEGIN:VEVENT
UID:7a2bc974-bc6a-436f-bd43-fb0cd0d97c44
DTSTAMP:20260420T120448Z
DTSTART;VALUE=DATE:20260828
SUMMARY:Dormition of the Mother of God (Georgia)
END:VEVENT
END:VCALENDAR