BEGIN:VCALENDAR
VERSION:2.0
PRODID:-//time.you/holidays//NONSGML v1.0//EN
BEGIN:VEVENT
UID:2dd0ae06-d549-4a1b-b60b-609241adb89c
DTSTAMP:20260422T084836Z
DTSTART;VALUE=DATE:20260119
SUMMARY:Epiphany (Georgia)
END:VEVENT
END:VCALENDAR