BEGIN:VCALENDAR
VERSION:2.0
PRODID:-//time.you/holidays//NONSGML v1.0//EN
BEGIN:VEVENT
UID:a86ae72c-ff6e-43b1-b5c0-b9320145023d
DTSTAMP:20260420T110833Z
DTSTART;VALUE=DATE:20261014
SUMMARY:Holiday of Svetitskhovloba, Robe of Jesus (Georgia)
END:VEVENT
END:VCALENDAR