BEGIN:VCALENDAR
VERSION:2.0
PRODID:-//time.you/holidays//NONSGML v1.0//EN
BEGIN:VEVENT
UID:c0686c68-d1e3-44c1-bf0f-39c764f42a05
DTSTAMP:20260421T124946Z
DTSTART;VALUE=DATE:20260308
SUMMARY:International Women's Day (Georgia)
END:VEVENT
END:VCALENDAR