BEGIN:VCALENDAR
VERSION:2.0
PRODID:-//time.you/holidays//NONSGML v1.0//EN
BEGIN:VEVENT
UID:b9506377-3a17-430f-9a55-d0f5e16683e7
DTSTAMP:20260421T220739Z
DTSTART;VALUE=DATE:20260101
SUMMARY:New Year's Day (Georgia)
END:VEVENT
END:VCALENDAR