BEGIN:VCALENDAR
VERSION:2.0
PRODID:-//time.you/holidays//NONSGML v1.0//EN
BEGIN:VEVENT
UID:4b143e49-ad25-4571-9ffc-6599fb2a6be3
DTSTAMP:20260421T181659Z
DTSTART;VALUE=DATE:20260512
SUMMARY:Saint Andrew's Day (Georgia)
END:VEVENT
END:VCALENDAR