BEGIN:VCALENDAR
VERSION:2.0
PRODID:-//time.you/holidays//NONSGML v1.0//EN
BEGIN:VEVENT
UID:2c58b8d4-a1b0-410c-9626-f4001adf0950
DTSTAMP:20260419T160313Z
DTSTART;VALUE=DATE:20260405
SUMMARY:Easter Sunday (Germany)
END:VEVENT
END:VCALENDAR