BEGIN:VCALENDAR
VERSION:2.0
PRODID:-//time.you/holidays//NONSGML v1.0//EN
BEGIN:VEVENT
UID:27898da5-e4b8-4e85-bd0a-21ba1daa1c64
DTSTAMP:20260419T155432Z
DTSTART;VALUE=DATE:20260308
SUMMARY:International Women's Day (Germany)
END:VEVENT
END:VCALENDAR