BEGIN:VCALENDAR
VERSION:2.0
PRODID:-//time.you/holidays//NONSGML v1.0//EN
BEGIN:VEVENT
UID:95338498-9c0a-4c4c-95a6-ecb331d4e4bf
DTSTAMP:20260421T021638Z
DTSTART;VALUE=DATE:20260501
SUMMARY:Labor Day (Germany)
END:VEVENT
END:VCALENDAR