BEGIN:VCALENDAR
VERSION:2.0
PRODID:-//time.you/holidays//NONSGML v1.0//EN
BEGIN:VEVENT
UID:cdcb1f42-59b3-4e29-943b-aacce2a61e47
DTSTAMP:20260419T155951Z
DTSTART;VALUE=DATE:20261031
SUMMARY:Reformation Day (Germany)
END:VEVENT
END:VCALENDAR