BEGIN:VCALENDAR
VERSION:2.0
PRODID:-//time.you/holidays//NONSGML v1.0//EN
BEGIN:VEVENT
UID:868196ac-b444-45c5-8308-c172453c63d5
DTSTAMP:20260419T155426Z
DTSTART;VALUE=DATE:20261118
SUMMARY:Repentance and Prayer Day (Germany)
END:VEVENT
END:VCALENDAR