BEGIN:VCALENDAR
VERSION:2.0
PRODID:-//time.you/holidays//NONSGML v1.0//EN
BEGIN:VEVENT
UID:a6499b99-9574-4153-b5ab-4ecf0366d37c
DTSTAMP:20260420T013911Z
DTSTART;VALUE=DATE:20261225
SUMMARY:Christmas Day (Ghana)
END:VEVENT
END:VCALENDAR