BEGIN:VCALENDAR
VERSION:2.0
PRODID:-//time.you/holidays//NONSGML v1.0//EN
BEGIN:VEVENT
UID:8a4be891-07a6-4c3b-aa9a-2358903c4e37
DTSTAMP:20260423T133721Z
DTSTART;VALUE=DATE:20260107
SUMMARY:Constitution Day (Ghana)
END:VEVENT
END:VCALENDAR