BEGIN:VCALENDAR
VERSION:2.0
PRODID:-//time.you/holidays//NONSGML v1.0//EN
BEGIN:VEVENT
UID:b2d53da1-9ea6-417d-bf27-5f3357371b98
DTSTAMP:20260420T104617Z
DTSTART;VALUE=DATE:20261204
SUMMARY:Farmer's Day (Ghana)
END:VEVENT
END:VCALENDAR