BEGIN:VCALENDAR
VERSION:2.0
PRODID:-//time.you/holidays//NONSGML v1.0//EN
BEGIN:VEVENT
UID:c0a844ea-f0dd-4e82-be4e-a4f633ffbe70
DTSTAMP:20260422T041354Z
DTSTART;VALUE=DATE:20260921
SUMMARY:Kwame Nkrumah Memorial Day (Ghana)
END:VEVENT
END:VCALENDAR