BEGIN:VCALENDAR
VERSION:2.0
PRODID:-//time.you/holidays//NONSGML v1.0//EN
BEGIN:VEVENT
UID:95050488-3042-4c9c-bea0-50d10babfd30
DTSTAMP:20260423T121804Z
DTSTART;VALUE=DATE:20260501
SUMMARY:May Day (Ghana)
END:VEVENT
END:VCALENDAR