BEGIN:VCALENDAR
VERSION:2.0
PRODID:-//time.you/holidays//NONSGML v1.0//EN
BEGIN:VEVENT
UID:b0a9f256-57d9-499e-bf00-53437d301a70
DTSTAMP:20260424T143857Z
DTSTART;VALUE=DATE:20260101
SUMMARY:New Year's Day (Ghana)
END:VEVENT
END:VCALENDAR