BEGIN:VCALENDAR
VERSION:2.0
PRODID:-//time.you/holidays//NONSGML v1.0//EN
BEGIN:VEVENT
UID:35353295-5fa3-4e97-bfa7-4ad7a4b88d40
DTSTAMP:20260424T184314Z
DTSTART;VALUE=DATE:20261226
SUMMARY:Boxing Day (Gibraltar)
END:VEVENT
END:VCALENDAR