BEGIN:VCALENDAR
VERSION:2.0
PRODID:-//time.you/holidays//NONSGML v1.0//EN
BEGIN:VEVENT
UID:5ea3d767-960a-447c-a035-71ce5c8380aa
DTSTAMP:20260420T002116Z
DTSTART;VALUE=DATE:20261225
SUMMARY:Christmas Day (Gibraltar)
END:VEVENT
END:VCALENDAR