BEGIN:VCALENDAR
VERSION:2.0
PRODID:-//time.you/holidays//NONSGML v1.0//EN
BEGIN:VEVENT
UID:6d8c43ed-ce61-4c23-b5ad-f8e04858a5c5
DTSTAMP:20260421T044311Z
DTSTART;VALUE=DATE:20220221
SUMMARY:Commonwealth Day (Gibraltar)
END:VEVENT
END:VCALENDAR