BEGIN:VCALENDAR
VERSION:2.0
PRODID:-//time.you/holidays//NONSGML v1.0//EN
BEGIN:VEVENT
UID:a8102559-05a2-4a27-935f-390fd3e74384
DTSTAMP:20260421T022118Z
DTSTART;VALUE=DATE:20260403
SUMMARY:Good Friday (Gibraltar)
END:VEVENT
END:VCALENDAR