BEGIN:VCALENDAR
VERSION:2.0
PRODID:-//time.you/holidays//NONSGML v1.0//EN
BEGIN:VEVENT
UID:037782bc-d04c-46d4-951d-b6e3da19b026
DTSTAMP:20260423T162548Z
DTSTART;VALUE=DATE:20260501
SUMMARY:May Day (Gibraltar)
END:VEVENT
END:VCALENDAR