BEGIN:VCALENDAR
VERSION:2.0
PRODID:-//time.you/holidays//NONSGML v1.0//EN
BEGIN:VEVENT
UID:7f92e9b4-d82e-4d1c-9412-f934effa19f7
DTSTAMP:20260421T203407Z
DTSTART;VALUE=DATE:20280103
SUMMARY:New Year's Day (observed) (Gibraltar)
END:VEVENT
END:VCALENDAR