BEGIN:VCALENDAR
VERSION:2.0
PRODID:-//time.you/holidays//NONSGML v1.0//EN
BEGIN:VEVENT
UID:b69e3344-4d1b-4bbb-98ae-72dd3a2a2851
DTSTAMP:20260422T071304Z
DTSTART;VALUE=DATE:20220603
SUMMARY:Queen's Platinum Jubilee (Gibraltar)
END:VEVENT
END:VCALENDAR