BEGIN:VCALENDAR
VERSION:2.0
PRODID:-//time.you/holidays//NONSGML v1.0//EN
BEGIN:VEVENT
UID:31ac49a8-d1b5-4153-adf4-ed8c041a582f
DTSTAMP:20260424T221751Z
DTSTART;VALUE=DATE:20260216
SUMMARY:Winter Midterm Bank Holiday (Gibraltar)
END:VEVENT
END:VCALENDAR