BEGIN:VCALENDAR
VERSION:2.0
PRODID:-//time.you/holidays//NONSGML v1.0//EN
BEGIN:VEVENT
UID:95c2f8ef-9d9d-4c8b-82cc-888cac2fc855
DTSTAMP:20260421T124612Z
DTSTART;VALUE=DATE:20290430
SUMMARY:Workers' Memorial Day (observed) (Gibraltar)
END:VEVENT
END:VCALENDAR