BEGIN:VCALENDAR
VERSION:2.0
PRODID:-//time.you/holidays//NONSGML v1.0//EN
BEGIN:VEVENT
UID:0d39cd42-54a8-4f4c-b9ce-38117e29ab95
DTSTAMP:20260420T141156Z
DTSTART;VALUE=DATE:20260815
SUMMARY:Dormition of the Mother of God (Greece)
END:VEVENT
END:VCALENDAR