BEGIN:VCALENDAR
VERSION:2.0
PRODID:-//time.you/holidays//NONSGML v1.0//EN
BEGIN:VEVENT
UID:74d9cfd4-1d48-4830-871f-d2de645cef6c
DTSTAMP:20260419T233623Z
DTSTART;VALUE=DATE:20260101
SUMMARY:New Year's Day (Greece)
END:VEVENT
END:VCALENDAR