BEGIN:VCALENDAR
VERSION:2.0
PRODID:-//time.you/holidays//NONSGML v1.0//EN
BEGIN:VEVENT
UID:9ba85b9f-5ed3-4939-b80d-4d58a276a528
DTSTAMP:20260422T023138Z
DTSTART;VALUE=DATE:20261225
SUMMARY:Christmas Day (Greenland)
END:VEVENT
END:VCALENDAR