BEGIN:VCALENDAR
VERSION:2.0
PRODID:-//time.you/holidays//NONSGML v1.0//EN
BEGIN:VEVENT
UID:5db4f362-a174-4e39-9f0c-91ef74d6b3a0
DTSTAMP:20260421T153527Z
DTSTART;VALUE=DATE:20260501
SUMMARY:Great Prayer Day (Greenland)
END:VEVENT
END:VCALENDAR