BEGIN:VCALENDAR
VERSION:2.0
PRODID:-//time.you/holidays//NONSGML v1.0//EN
BEGIN:VEVENT
UID:d589e778-56ce-4c7b-be05-9c697648f45f
DTSTAMP:20260420T165131Z
DTSTART;VALUE=DATE:20261226
SUMMARY:Second Day of Christmas (Greenland)
END:VEVENT
END:VCALENDAR