BEGIN:VCALENDAR
VERSION:2.0
PRODID:-//time.you/holidays//NONSGML v1.0//EN
BEGIN:VEVENT
UID:e060dbc9-71bb-4e1d-a9c8-c26f988065c5
DTSTAMP:20260420T144157Z
DTSTART;VALUE=DATE:20260524
SUMMARY:Whit Sunday (Greenland)
END:VEVENT
END:VCALENDAR