BEGIN:VCALENDAR
VERSION:2.0
PRODID:-//time.you/holidays//NONSGML v1.0//EN
BEGIN:VEVENT
UID:d287e3cd-01b9-42e6-aa98-82c9dc8d0ab8
DTSTAMP:20260421T143848Z
DTSTART;VALUE=DATE:20331226
SUMMARY:Boxing Day; Christmas Day (observed) (Grenada)
END:VEVENT
END:VCALENDAR