BEGIN:VCALENDAR
VERSION:2.0
PRODID:-//time.you/holidays//NONSGML v1.0//EN
BEGIN:VEVENT
UID:7b08b267-33df-4537-b634-049e0e6e2ed9
DTSTAMP:20260421T105445Z
DTSTART;VALUE=DATE:20271227
SUMMARY:Boxing Day (observed) (Grenada)
END:VEVENT
END:VCALENDAR