BEGIN:VCALENDAR
VERSION:2.0
PRODID:-//time.you/holidays//NONSGML v1.0//EN
BEGIN:VEVENT
UID:2d542d45-445d-4488-b173-ed53b2b46aa9
DTSTAMP:20260424T044806Z
DTSTART;VALUE=DATE:20261226
SUMMARY:Boxing Day (Grenada)
END:VEVENT
END:VCALENDAR